BEGIN:VCALENDAR
VERSION:2.0
PRODID:-//PYVOBJECT//NONSGML Version 0.9.9//EN
BEGIN:VEVENT
UID:20260422T031217Z - 94638@belchen
DTSTART:20260425T180000
DESCRIPTION:Der Infoabend bietet Ihnen die Gelegenheit die Dozenten der Aus
 bildung und ihren Unterrichtsstil kennen zu lernen. Somit wird ein erster 
 Einblick in die Ausbildung gegeben.Bitte rechtzeitig anmelden.      .
DTSTAMP:20260422T031217Z
LOCATION:Yoga Akademie Zürich  \nIm eisernen Zeit 1\, 8057 Zürich\, Schwe
 iz
SUMMARY:Infoabend zum/zur Entspannungstherapeut/in
URL:https://yoga-akademie-zuerich.ch/termine/infoabend3-entspannungstherape
 ut-in/
END:VEVENT
BEGIN:VEVENT
UID:20260422T031217Z - 82585@belchen
DTSTART:20260705T100000
DESCRIPTION:In diesem Partner*innenworkshop lernst Du die entspannte Wirkun
 g der Thai Yoga Massage kennen.Die heilsame Ganzkörpermassage findet bekl
 eidet auf einer Matte am Boden statt (Dauer 90 Minuten). Elemente der Mass
 age und Akupressur werden mit behutsamen Dehnübungen aus dem Yoga verbund
 en. Durch die Berührungen werden Verspannungen und Energieblockaden gelö
 st. Freu dich auf einen besonderen Tag!Bitte mitbringen: Pausensnack\, beq
 ueme Kleidung\, bei Bedarf warme Socken und eine Decke.Leitung: Marian Fri
 tzsche - Info: www.marisun.deVorblick: Thai Yoga Massage Ausbildung - Herb
 st 2026
DTSTAMP:20260422T031217Z
LOCATION:Yoga Akademie Zürich  \nIm eisernen Zeit 1\, 8057 Zürich\, Schwe
 iz
SUMMARY:Thai Yoga Massage - Heilsame Berührung
URL:https://yoga-akademie-zuerich.ch/termine/healing-touch-mit-marian-fritz
 sche/
END:VEVENT
BEGIN:VEVENT
UID:20260422T031217Z - 26639@belchen
DTSTART:20261004T170000
DESCRIPTION:Der Infoabend zur Ausbildung Meditationslehrer/in gibt die Gele
 genheit die Dozenten kennenzulernen und über die Schwerpunkte und Inhalte
  der Ausbildung etwas zu erfahren.
DTSTAMP:20260422T031217Z
LOCATION:Yoga Akademie Zürich  \nIm eisernen Zeit 1\, 8057 Zürich\, Schwe
 iz
SUMMARY:Infoabend Ausbildung zur Meditations- und Achtsamkeitslehrerin
URL:https://yoga-akademie-zuerich.ch/termine/infoabend-zur-meditationslehre
 r-ausbildung/
END:VEVENT
END:VCALENDAR
